BEGIN:VCALENDAR
VERSION:2.0
PRODID:-//Plone.org//NONSGML plone.app.event//EN
X-WR-TIMEZONE:Brazil/East
BEGIN:VEVENT
SUMMARY:Sessão Solene nº 3/21 - Inauguração da Procuradoria da Mulher
DTSTART;TZID=Brazil/East;VALUE=DATE-TIME:20211124T090000
DTEND;TZID=Brazil/East;VALUE=DATE-TIME:20211124T120000
DTSTAMP;VALUE=DATE-TIME:20260421T120804Z
UID:74903bbcb50f46fdb2a6518442cb416b@www.formosa.go.leg.br
ATTENDEE;CN="Parlamentares e público em geral.";ROLE=REQ-PARTICIPANT:Parl
 amentares e público em geral.
CATEGORIES:Eventos
CONTACT:Acinemar Gonçalves Costa\, 61 3631-1772 - Ramal 206\, presidencia
 @camaraformosa.go.gov.br
CREATED;VALUE=DATE-TIME:20211123T132313Z
LAST-MODIFIED;VALUE=DATE-TIME:20211123T132342Z
LOCATION:Plenário da Câmara
URL:https://www.formosa.go.leg.br/eventos/3a-sessao-solene-inauguracao-da-
 procuradoria-da-mulher
END:VEVENT
BEGIN:VTIMEZONE
TZID:Brazil/East
X-LIC-LOCATION:Brazil/East
BEGIN:DAYLIGHT
DTSTART;VALUE=DATE-TIME:20211017T010000
TZNAME:BRST
TZOFFSETFROM:-0300
TZOFFSETTO:-0200
END:DAYLIGHT
END:VTIMEZONE
END:VCALENDAR
