BEGIN:VCALENDAR
VERSION:2.0
PRODID:-//Plone.org//NONSGML plone.app.event//EN
X-WR-TIMEZONE:Brazil/East
BEGIN:VEVENT
SUMMARY:Audiência Pública 004/15
DTSTART;TZID=Brazil/East;VALUE=DATE-TIME:20150917T090000
DTEND;TZID=Brazil/East;VALUE=DATE-TIME:20150917T120000
DTSTAMP;VALUE=DATE-TIME:20260424T155830Z
UID:01494fe3f332450da007ba970ae0553b@www.formosa.go.leg.br
ATTENDEE;CN="Comunidade formosense";ROLE=REQ-PARTICIPANT:Comunidade formos
 ense
CONTACT:Luiz Antônio Guimarães / Marcos Garzon
CREATED;VALUE=DATE-TIME:20150904T124922Z
DESCRIPTION:Tema: Movimento Formosa Verde
LAST-MODIFIED;VALUE=DATE-TIME:20150904T124955Z
LOCATION:Plenário da Câmara
URL:https://www.formosa.go.leg.br/eventos/audiencia-publica-004-15
END:VEVENT
BEGIN:VTIMEZONE
TZID:Brazil/East
X-LIC-LOCATION:Brazil/East
BEGIN:STANDARD
DTSTART;VALUE=DATE-TIME:20150221T230000
TZNAME:BRT
TZOFFSETFROM:-0200
TZOFFSETTO:-0300
END:STANDARD
END:VTIMEZONE
END:VCALENDAR
