BEGIN:VCALENDAR
VERSION:2.0
PRODID:-//Plone.org//NONSGML plone.app.event//EN
X-WR-TIMEZONE:Brazil/East
BEGIN:VEVENT
SUMMARY:Sessão Extraordinária nº 7/22
DTSTART;TZID=Brazil/East;VALUE=DATE-TIME:20221003T080000
DTSTAMP;VALUE=DATE-TIME:20260425T003904Z
UID:20a6b58f67a643409d8bd5bdf0306a37@www.formosa.go.leg.br
ATTENDEE;CN="Parlamentares e público em geral.";ROLE=REQ-PARTICIPANT:Parl
 amentares e público em geral.
CONTACT:Roberta Brito Shwerz Funghetto\, (61) 3631-1772\, presidencia@cama
 raformosa.go.gov.br
CREATED;VALUE=DATE-TIME:20221019T124603Z
LAST-MODIFIED;VALUE=DATE-TIME:20221019T124609Z
LOCATION:Plenário da Câmara
URL:https://www.formosa.go.leg.br/eventos/sessao-extraordinaria-no-7-22
END:VEVENT
BEGIN:VTIMEZONE
TZID:Brazil/East
X-LIC-LOCATION:Brazil/East
BEGIN:STANDARD
DTSTART;VALUE=DATE-TIME:20220219T230000
TZNAME:BRT
TZOFFSETFROM:-0200
TZOFFSETTO:-0300
END:STANDARD
END:VTIMEZONE
END:VCALENDAR
