BEGIN:VCALENDAR
VERSION:2.0
PRODID:-//Plone.org//NONSGML plone.app.event//EN
X-WR-TIMEZONE:Brazil/East
BEGIN:VEVENT
SUMMARY:Audiência Pública n.º 001/18
DTSTART;TZID=Brazil/East;VALUE=DATE-TIME:20181109T090000
DTEND;TZID=Brazil/East;VALUE=DATE-TIME:20181109T120000
DTSTAMP;VALUE=DATE-TIME:20260420T150411Z
UID:b0653b71f2e04bf1a1965734a875d9ca@www.formosa.go.leg.br
ATTENDEE;CN="Parlamentares e público em geral.";ROLE=REQ-PARTICIPANT:Parl
 amentares e público em geral.
CONTACT:Edmundo Nunes Dourado\, 61 3631-1772 - Ramal 206\, presidencia@cam
 araformosa.go.gov.br
CREATED;VALUE=DATE-TIME:20181105T225949Z
DESCRIPTION:Projeto do Plano de Manejo do Parque Municipal do Itiquira
LAST-MODIFIED;VALUE=DATE-TIME:20181105T225958Z
LOCATION:Plenário da Câmara
URL:https://www.formosa.go.leg.br/institucional/programacao/eventos/audien
 cia-publica-n-o-001-18
END:VEVENT
BEGIN:VTIMEZONE
TZID:Brazil/East
X-LIC-LOCATION:Brazil/East
BEGIN:DAYLIGHT
DTSTART;VALUE=DATE-TIME:20181021T010000
TZNAME:BRST
TZOFFSETFROM:-0300
TZOFFSETTO:-0200
END:DAYLIGHT
END:VTIMEZONE
END:VCALENDAR
